BEGIN:VCALENDAR
VERSION:2.0
PRODID:-//Refreshing Place Ministries - ECPv6.15.20//NONSGML v1.0//EN
CALSCALE:GREGORIAN
METHOD:PUBLISH
X-WR-CALNAME:Refreshing Place Ministries
X-ORIGINAL-URL:https://www.refreshingplace.org
X-WR-CALDESC:Events for Refreshing Place Ministries
REFRESH-INTERVAL;VALUE=DURATION:PT1H
X-Robots-Tag:noindex
X-PUBLISHED-TTL:PT1H
BEGIN:VTIMEZONE
TZID:UTC
BEGIN:STANDARD
TZOFFSETFROM:+0000
TZOFFSETTO:+0000
TZNAME:UTC
DTSTART:20240101T000000
END:STANDARD
END:VTIMEZONE
BEGIN:VEVENT
DTSTART;TZID=UTC:20251123T100000
DTEND;TZID=UTC:20251123T100000
DTSTAMP:20260422T000249
CREATED:20251029T142638Z
LAST-MODIFIED:20251029T142638Z
UID:1554-1763892000-1763892000@www.refreshingplace.org
SUMMARY:Sunday Worship Service
DESCRIPTION:
URL:https://www.refreshingplace.org/event/sunday-worship-service-4/
END:VEVENT
BEGIN:VEVENT
DTSTART;TZID=UTC:20251123T100000
DTEND;TZID=UTC:20251123T100000
DTSTAMP:20260422T000249
CREATED:20251112T180508Z
LAST-MODIFIED:20251112T180508Z
UID:2019-1763892000-1763892000@www.refreshingplace.org
SUMMARY:Youth Sunday
DESCRIPTION:
URL:https://www.refreshingplace.org/event/youth-sunday-2/
END:VEVENT
END:VCALENDAR