BEGIN:VCALENDAR
VERSION:2.0
PRODID:-//Refreshing Place Ministries - ECPv6.15.20//NONSGML v1.0//EN
CALSCALE:GREGORIAN
METHOD:PUBLISH
X-ORIGINAL-URL:https://www.refreshingplace.org
X-WR-CALDESC:Events for Refreshing Place Ministries
REFRESH-INTERVAL;VALUE=DURATION:PT1H
X-Robots-Tag:noindex
X-PUBLISHED-TTL:PT1H
BEGIN:VTIMEZONE
TZID:UTC
BEGIN:STANDARD
TZOFFSETFROM:+0000
TZOFFSETTO:+0000
TZNAME:UTC
DTSTART:20250101T000000
END:STANDARD
END:VTIMEZONE
BEGIN:VEVENT
DTSTART;VALUE=DATE:20260322
DTEND;VALUE=DATE:20260323
DTSTAMP:20260421T123858
CREATED:20260303T151205Z
LAST-MODIFIED:20260303T151205Z
UID:2047-1774137600-1774223999@www.refreshingplace.org
SUMMARY:Baby Dedication (Zion Price)
DESCRIPTION:
URL:https://www.refreshingplace.org/event/baby-dedication-zion-price/
END:VEVENT
BEGIN:VEVENT
DTSTART;VALUE=DATE:20260322
DTEND;VALUE=DATE:20260323
DTSTAMP:20260421T123858
CREATED:20260303T151228Z
LAST-MODIFIED:20260303T151228Z
UID:2049-1774137600-1774223999@www.refreshingplace.org
SUMMARY:Churchwide In-House Meeting (After Service)
DESCRIPTION:
URL:https://www.refreshingplace.org/event/churchwide-in-house-meeting-after-service/
END:VEVENT
END:VCALENDAR