BEGIN:VCALENDAR
VERSION:2.0
PRODID:-//Refreshing Place Ministries - ECPv6.15.20//NONSGML v1.0//EN
CALSCALE:GREGORIAN
METHOD:PUBLISH
X-ORIGINAL-URL:https://www.refreshingplace.org
X-WR-CALDESC:Events for Refreshing Place Ministries
REFRESH-INTERVAL;VALUE=DURATION:PT1H
X-Robots-Tag:noindex
X-PUBLISHED-TTL:PT1H
BEGIN:VTIMEZONE
TZID:UTC
BEGIN:STANDARD
TZOFFSETFROM:+0000
TZOFFSETTO:+0000
TZNAME:UTC
DTSTART:20250101T000000
END:STANDARD
END:VTIMEZONE
BEGIN:VEVENT
DTSTART;VALUE=DATE:20260404
DTEND;VALUE=DATE:20260405
DTSTAMP:20260420T230139
CREATED:20260303T151329Z
LAST-MODIFIED:20260303T151329Z
UID:2053-1775260800-1775347199@www.refreshingplace.org
SUMMARY:Church Anniversary
DESCRIPTION:
URL:https://www.refreshingplace.org/event/church-anniversary/
END:VEVENT
BEGIN:VEVENT
DTSTART;TZID=UTC:20260404T100000
DTEND;TZID=UTC:20260404T100000
DTSTAMP:20260420T230139
CREATED:20260303T151404Z
LAST-MODIFIED:20260303T151404Z
UID:2055-1775296800-1775296800@www.refreshingplace.org
SUMMARY:Men’s Ministry Meeting
DESCRIPTION:
URL:https://www.refreshingplace.org/event/mens-ministry-meeting-4/
END:VEVENT
END:VCALENDAR