BEGIN:VCALENDAR
VERSION:2.0
PRODID:-//Refreshing Place Ministries - ECPv6.15.20//NONSGML v1.0//EN
CALSCALE:GREGORIAN
METHOD:PUBLISH
X-ORIGINAL-URL:https://www.refreshingplace.org
X-WR-CALDESC:Events for Refreshing Place Ministries
REFRESH-INTERVAL;VALUE=DURATION:PT1H
X-Robots-Tag:noindex
X-PUBLISHED-TTL:PT1H
BEGIN:VTIMEZONE
TZID:UTC
BEGIN:STANDARD
TZOFFSETFROM:+0000
TZOFFSETTO:+0000
TZNAME:UTC
DTSTART:20250101T000000
END:STANDARD
END:VTIMEZONE
BEGIN:VEVENT
DTSTART;VALUE=DATE:20260411
DTEND;VALUE=DATE:20260412
DTSTAMP:20260421T005455
CREATED:20260303T151612Z
LAST-MODIFIED:20260303T151612Z
UID:2061-1775865600-1775951999@www.refreshingplace.org
SUMMARY:Gatekeeper Sip & Paint
DESCRIPTION:
URL:https://www.refreshingplace.org/event/gatekeeper-sip-paint/
END:VEVENT
END:VCALENDAR