BEGIN:VCALENDAR
VERSION:2.0
PRODID:-//Refreshing Place Ministries - ECPv6.15.20//NONSGML v1.0//EN
CALSCALE:GREGORIAN
METHOD:PUBLISH
X-WR-CALNAME:Refreshing Place Ministries
X-ORIGINAL-URL:https://www.refreshingplace.org
X-WR-CALDESC:Events for Refreshing Place Ministries
REFRESH-INTERVAL;VALUE=DURATION:PT1H
X-Robots-Tag:noindex
X-PUBLISHED-TTL:PT1H
BEGIN:VTIMEZONE
TZID:UTC
BEGIN:STANDARD
TZOFFSETFROM:+0000
TZOFFSETTO:+0000
TZNAME:UTC
DTSTART:20240101T000000
END:STANDARD
END:VTIMEZONE
BEGIN:VEVENT
DTSTART;TZID=UTC:20260412T130000
DTEND;TZID=UTC:20260412T130000
DTSTAMP:20260420T233112
CREATED:20260303T151657Z
LAST-MODIFIED:20260303T151740Z
UID:2063-1775998800-1775998800@www.refreshingplace.org
SUMMARY:Golden Warriors Outing
DESCRIPTION:
URL:https://www.refreshingplace.org/event/golden-warriors-outing-2/
END:VEVENT
BEGIN:VEVENT
DTSTART;VALUE=DATE:20260411
DTEND;VALUE=DATE:20260412
DTSTAMP:20260420T233112
CREATED:20260303T151612Z
LAST-MODIFIED:20260303T151612Z
UID:2061-1775865600-1775951999@www.refreshingplace.org
SUMMARY:Gatekeeper Sip & Paint
DESCRIPTION:
URL:https://www.refreshingplace.org/event/gatekeeper-sip-paint/
END:VEVENT
BEGIN:VEVENT
DTSTART;TZID=UTC:20260408T110000
DTEND;TZID=UTC:20260408T110000
DTSTAMP:20260420T233112
CREATED:20260303T151543Z
LAST-MODIFIED:20260303T151543Z
UID:2059-1775646000-1775646000@www.refreshingplace.org
SUMMARY:Golden Warriors Meeting
DESCRIPTION:
URL:https://www.refreshingplace.org/event/golden-warriors-meeting-5/
END:VEVENT
BEGIN:VEVENT
DTSTART;VALUE=DATE:20260405
DTEND;VALUE=DATE:20260406
DTSTAMP:20260420T233112
CREATED:20260303T151443Z
LAST-MODIFIED:20260303T151443Z
UID:2057-1775347200-1775433599@www.refreshingplace.org
SUMMARY:Easter Sunday (Anniversary Celebration)
DESCRIPTION:
URL:https://www.refreshingplace.org/event/easter-sunday-anniversary-celebration/
END:VEVENT
BEGIN:VEVENT
DTSTART;TZID=UTC:20260404T100000
DTEND;TZID=UTC:20260404T100000
DTSTAMP:20260420T233112
CREATED:20260303T151404Z
LAST-MODIFIED:20260303T151404Z
UID:2055-1775296800-1775296800@www.refreshingplace.org
SUMMARY:Men’s Ministry Meeting
DESCRIPTION:
URL:https://www.refreshingplace.org/event/mens-ministry-meeting-4/
END:VEVENT
BEGIN:VEVENT
DTSTART;VALUE=DATE:20260404
DTEND;VALUE=DATE:20260405
DTSTAMP:20260420T233112
CREATED:20260303T151329Z
LAST-MODIFIED:20260303T151329Z
UID:2053-1775260800-1775347199@www.refreshingplace.org
SUMMARY:Church Anniversary
DESCRIPTION:
URL:https://www.refreshingplace.org/event/church-anniversary/
END:VEVENT
BEGIN:VEVENT
DTSTART;VALUE=DATE:20260329
DTEND;VALUE=DATE:20260330
DTSTAMP:20260420T233112
CREATED:20260303T151254Z
LAST-MODIFIED:20260303T151254Z
UID:2051-1774742400-1774828799@www.refreshingplace.org
SUMMARY:Youth Church Service
DESCRIPTION:
URL:https://www.refreshingplace.org/event/youth-church-service/
END:VEVENT
BEGIN:VEVENT
DTSTART;VALUE=DATE:20260322
DTEND;VALUE=DATE:20260323
DTSTAMP:20260420T233112
CREATED:20260303T151228Z
LAST-MODIFIED:20260303T151228Z
UID:2049-1774137600-1774223999@www.refreshingplace.org
SUMMARY:Churchwide In-House Meeting (After Service)
DESCRIPTION:
URL:https://www.refreshingplace.org/event/churchwide-in-house-meeting-after-service/
END:VEVENT
BEGIN:VEVENT
DTSTART;VALUE=DATE:20260322
DTEND;VALUE=DATE:20260323
DTSTAMP:20260420T233112
CREATED:20260303T151205Z
LAST-MODIFIED:20260303T151205Z
UID:2047-1774137600-1774223999@www.refreshingplace.org
SUMMARY:Baby Dedication (Zion Price)
DESCRIPTION:
URL:https://www.refreshingplace.org/event/baby-dedication-zion-price/
END:VEVENT
BEGIN:VEVENT
DTSTART;VALUE=DATE:20260321
DTEND;VALUE=DATE:20260322
DTSTAMP:20260420T233112
CREATED:20260303T150829Z
LAST-MODIFIED:20260303T150829Z
UID:2045-1774051200-1774137599@www.refreshingplace.org
SUMMARY:Teachers Training
DESCRIPTION:
URL:https://www.refreshingplace.org/event/teachers-training/
END:VEVENT
BEGIN:VEVENT
DTSTART;TZID=UTC:20260314T183000
DTEND;TZID=UTC:20260314T183000
DTSTAMP:20260420T233112
CREATED:20260303T150534Z
LAST-MODIFIED:20260303T150534Z
UID:2043-1773513000-1773513000@www.refreshingplace.org
SUMMARY:Marriage Ministry Event
DESCRIPTION:
URL:https://www.refreshingplace.org/event/marriage-ministry-event/
END:VEVENT
BEGIN:VEVENT
DTSTART;TZID=UTC:20260311T110000
DTEND;TZID=UTC:20260311T110000
DTSTAMP:20260420T233112
CREATED:20260303T150427Z
LAST-MODIFIED:20260303T150427Z
UID:2041-1773226800-1773226800@www.refreshingplace.org
SUMMARY:Golden Warriors Meeting
DESCRIPTION:
URL:https://www.refreshingplace.org/event/golden-warriors-meeting-4/
END:VEVENT
BEGIN:VEVENT
DTSTART;TZID=UTC:20260307T100000
DTEND;TZID=UTC:20260307T100000
DTSTAMP:20260420T233112
CREATED:20260303T160155Z
LAST-MODIFIED:20260303T160155Z
UID:2087-1772877600-1772877600@www.refreshingplace.org
SUMMARY:Gatekeepers Meeting
DESCRIPTION:
URL:https://www.refreshingplace.org/event/gatekeepers-meeting-2/
END:VEVENT
BEGIN:VEVENT
DTSTART;TZID=UTC:20260307T100000
DTEND;TZID=UTC:20260307T100000
DTSTAMP:20260420T233112
CREATED:20260303T150232Z
LAST-MODIFIED:20260303T150232Z
UID:2037-1772877600-1772877600@www.refreshingplace.org
SUMMARY:Men’s Ministry Meeting
DESCRIPTION:
URL:https://www.refreshingplace.org/event/mens-ministry-meeting-3/
END:VEVENT
BEGIN:VEVENT
DTSTART;VALUE=DATE:20251231
DTEND;VALUE=DATE:20260101
DTSTAMP:20260420T233112
CREATED:20251029T144414Z
LAST-MODIFIED:20251029T144414Z
UID:1580-1767139200-1767225599@www.refreshingplace.org
SUMMARY:New Year’s Eve Service
DESCRIPTION:
URL:https://www.refreshingplace.org/event/new-years-eve-service/
END:VEVENT
BEGIN:VEVENT
DTSTART;TZID=UTC:20251228T100000
DTEND;TZID=UTC:20251228T100000
DTSTAMP:20260420T233112
CREATED:20251029T144347Z
LAST-MODIFIED:20251029T144347Z
UID:1578-1766916000-1766916000@www.refreshingplace.org
SUMMARY:Sunday Worship Service
DESCRIPTION:
URL:https://www.refreshingplace.org/event/sunday-worship-service-9/
END:VEVENT
BEGIN:VEVENT
DTSTART;VALUE=DATE:20251228
DTEND;VALUE=DATE:20251229
DTSTAMP:20260420T233112
CREATED:20251112T201131Z
LAST-MODIFIED:20251112T201602Z
UID:2029-1766880000-1766966399@www.refreshingplace.org
SUMMARY:Themed attire – TRPM Shades Of Blue
DESCRIPTION:
URL:https://www.refreshingplace.org/event/themed-attire-trpm-shades-of-blue/
END:VEVENT
BEGIN:VEVENT
DTSTART;TZID=UTC:20251221T100000
DTEND;TZID=UTC:20251221T100000
DTSTAMP:20260420T233112
CREATED:20251029T144105Z
LAST-MODIFIED:20251029T144105Z
UID:1576-1766311200-1766311200@www.refreshingplace.org
SUMMARY:Sunday Worship Service
DESCRIPTION:
URL:https://www.refreshingplace.org/event/sunday-worship-service-8/
END:VEVENT
BEGIN:VEVENT
DTSTART;VALUE=DATE:20251221
DTEND;VALUE=DATE:20251222
DTSTAMP:20260420T233112
CREATED:20251112T200855Z
LAST-MODIFIED:20251112T201318Z
UID:2027-1766275200-1766361599@www.refreshingplace.org
SUMMARY:Themed attire – Ugly Sweater
DESCRIPTION:
URL:https://www.refreshingplace.org/event/themed-attire-ugly-sweater/
END:VEVENT
BEGIN:VEVENT
DTSTART;VALUE=DATE:20251217
DTEND;VALUE=DATE:20251218
DTSTAMP:20260420T233112
CREATED:20251029T143942Z
LAST-MODIFIED:20251029T143942Z
UID:1574-1765929600-1766015999@www.refreshingplace.org
SUMMARY:Wednesday Night Bible Study (Facilitators: Elders David & Teresa Cobb)
DESCRIPTION:
URL:https://www.refreshingplace.org/event/wednesday-night-bible-study-facilitators-elders-david-teresa-cobb-2/
END:VEVENT
BEGIN:VEVENT
DTSTART;TZID=UTC:20251214T100000
DTEND;TZID=UTC:20251214T100000
DTSTAMP:20260420T233112
CREATED:20251029T143905Z
LAST-MODIFIED:20251029T143905Z
UID:1572-1765706400-1765706400@www.refreshingplace.org
SUMMARY:Sunday Worship Service
DESCRIPTION:
URL:https://www.refreshingplace.org/event/sunday-worship-service-7/
END:VEVENT
BEGIN:VEVENT
DTSTART;VALUE=DATE:20251214
DTEND;VALUE=DATE:20251215
DTSTAMP:20260420T233112
CREATED:20251112T200828Z
LAST-MODIFIED:20251112T201500Z
UID:2025-1765670400-1765756799@www.refreshingplace.org
SUMMARY:Themed attire – Favorite Team Jersey
DESCRIPTION:
URL:https://www.refreshingplace.org/event/themed-attire-favorite-team-jersey/
END:VEVENT
BEGIN:VEVENT
DTSTART;VALUE=DATE:20251210
DTEND;VALUE=DATE:20251211
DTSTAMP:20260420T233112
CREATED:20251029T143759Z
LAST-MODIFIED:20251029T143759Z
UID:1570-1765324800-1765411199@www.refreshingplace.org
SUMMARY:Wednesday Night Bible Study (Facilitators: Elders David & Teresa Cobb)
DESCRIPTION:
URL:https://www.refreshingplace.org/event/wednesday-night-bible-study-facilitators-elders-david-teresa-cobb/
END:VEVENT
BEGIN:VEVENT
DTSTART;TZID=UTC:20251207T100000
DTEND;TZID=UTC:20251207T100000
DTSTAMP:20260420T233112
CREATED:20251029T143432Z
LAST-MODIFIED:20251029T143432Z
UID:1566-1765101600-1765101600@www.refreshingplace.org
SUMMARY:Sunday Worship Service
DESCRIPTION:
URL:https://www.refreshingplace.org/event/sunday-worship-service-6/
END:VEVENT
BEGIN:VEVENT
DTSTART;VALUE=DATE:20251207
DTEND;VALUE=DATE:20251208
DTSTAMP:20260420T233112
CREATED:20251112T200758Z
LAST-MODIFIED:20251112T201409Z
UID:2023-1765065600-1765151999@www.refreshingplace.org
SUMMARY:Themed Attire – Red
DESCRIPTION:
URL:https://www.refreshingplace.org/event/themed-attire-red/
END:VEVENT
BEGIN:VEVENT
DTSTART;VALUE=DATE:20251207
DTEND;VALUE=DATE:20251208
DTSTAMP:20260420T233112
CREATED:20251029T143709Z
LAST-MODIFIED:20251029T143709Z
UID:1568-1765065600-1765151999@www.refreshingplace.org
SUMMARY:Golden Warriors Meeting
DESCRIPTION:
URL:https://www.refreshingplace.org/event/golden-warriors-meeting-3/
END:VEVENT
BEGIN:VEVENT
DTSTART;TZID=UTC:20251206T100000
DTEND;TZID=UTC:20251206T100000
DTSTAMP:20260420T233112
CREATED:20251029T143335Z
LAST-MODIFIED:20251029T143335Z
UID:1564-1765015200-1765015200@www.refreshingplace.org
SUMMARY:Men’s Ministry Meeting
DESCRIPTION:
URL:https://www.refreshingplace.org/event/mens-ministry-meeting-2/
END:VEVENT
BEGIN:VEVENT
DTSTART;VALUE=DATE:20251203
DTEND;VALUE=DATE:20251204
DTSTAMP:20260420T233112
CREATED:20251029T143301Z
LAST-MODIFIED:20251029T143301Z
UID:1562-1764720000-1764806399@www.refreshingplace.org
SUMMARY:Wednesday Night Bible Study (Facilitators: Chris & Cayla Price)
DESCRIPTION:
URL:https://www.refreshingplace.org/event/wednesday-night-bible-study-facilitators-chris-cayla-price-2/
END:VEVENT
BEGIN:VEVENT
DTSTART;VALUE=DATE:20251202
DTEND;VALUE=DATE:20251203
DTSTAMP:20260420T233112
CREATED:20251029T143223Z
LAST-MODIFIED:20251029T143223Z
UID:1560-1764633600-1764719999@www.refreshingplace.org
SUMMARY:Giving Tuesday
DESCRIPTION:
URL:https://www.refreshingplace.org/event/giving-tuesday/
END:VEVENT
BEGIN:VEVENT
DTSTART;TZID=UTC:20251130T100000
DTEND;TZID=UTC:20251130T100000
DTSTAMP:20260420T233112
CREATED:20251112T200734Z
LAST-MODIFIED:20251112T200734Z
UID:2021-1764496800-1764496800@www.refreshingplace.org
SUMMARY:Youth Sunday
DESCRIPTION:
URL:https://www.refreshingplace.org/event/youth-sunday-3/
END:VEVENT
END:VCALENDAR