BEGIN:VCALENDAR
VERSION:2.0
PRODID:-//Refreshing Place Ministries - ECPv6.15.20//NONSGML v1.0//EN
CALSCALE:GREGORIAN
METHOD:PUBLISH
X-WR-CALNAME:Refreshing Place Ministries
X-ORIGINAL-URL:https://www.refreshingplace.org
X-WR-CALDESC:Events for Refreshing Place Ministries
REFRESH-INTERVAL;VALUE=DURATION:PT1H
X-Robots-Tag:noindex
X-PUBLISHED-TTL:PT1H
BEGIN:VTIMEZONE
TZID:UTC
BEGIN:STANDARD
TZOFFSETFROM:+0000
TZOFFSETTO:+0000
TZNAME:UTC
DTSTART:20220101T000000
END:STANDARD
END:VTIMEZONE
BEGIN:VEVENT
DTSTART;VALUE=DATE:20251207
DTEND;VALUE=DATE:20251208
DTSTAMP:20260421T025658
CREATED:20251029T143709Z
LAST-MODIFIED:20251029T143709Z
UID:1568-1765065600-1765151999@www.refreshingplace.org
SUMMARY:Golden Warriors Meeting
DESCRIPTION:
URL:https://www.refreshingplace.org/event/golden-warriors-meeting-3/
END:VEVENT
BEGIN:VEVENT
DTSTART;TZID=UTC:20251206T100000
DTEND;TZID=UTC:20251206T100000
DTSTAMP:20260421T025658
CREATED:20251029T143335Z
LAST-MODIFIED:20251029T143335Z
UID:1564-1765015200-1765015200@www.refreshingplace.org
SUMMARY:Men’s Ministry Meeting
DESCRIPTION:
URL:https://www.refreshingplace.org/event/mens-ministry-meeting-2/
END:VEVENT
BEGIN:VEVENT
DTSTART;VALUE=DATE:20251203
DTEND;VALUE=DATE:20251204
DTSTAMP:20260421T025658
CREATED:20251029T143301Z
LAST-MODIFIED:20251029T143301Z
UID:1562-1764720000-1764806399@www.refreshingplace.org
SUMMARY:Wednesday Night Bible Study (Facilitators: Chris & Cayla Price)
DESCRIPTION:
URL:https://www.refreshingplace.org/event/wednesday-night-bible-study-facilitators-chris-cayla-price-2/
END:VEVENT
BEGIN:VEVENT
DTSTART;VALUE=DATE:20251202
DTEND;VALUE=DATE:20251203
DTSTAMP:20260421T025658
CREATED:20251029T143223Z
LAST-MODIFIED:20251029T143223Z
UID:1560-1764633600-1764719999@www.refreshingplace.org
SUMMARY:Giving Tuesday
DESCRIPTION:
URL:https://www.refreshingplace.org/event/giving-tuesday/
END:VEVENT
BEGIN:VEVENT
DTSTART;TZID=UTC:20251130T100000
DTEND;TZID=UTC:20251130T100000
DTSTAMP:20260421T025658
CREATED:20251112T200734Z
LAST-MODIFIED:20251112T200734Z
UID:2021-1764496800-1764496800@www.refreshingplace.org
SUMMARY:Youth Sunday
DESCRIPTION:
URL:https://www.refreshingplace.org/event/youth-sunday-3/
END:VEVENT
BEGIN:VEVENT
DTSTART;TZID=UTC:20251130T100000
DTEND;TZID=UTC:20251130T100000
DTSTAMP:20260421T025658
CREATED:20251029T142824Z
LAST-MODIFIED:20251029T142824Z
UID:1558-1764496800-1764496800@www.refreshingplace.org
SUMMARY:Sunday Worship Service
DESCRIPTION:
URL:https://www.refreshingplace.org/event/sunday-worship-service-5/
END:VEVENT
BEGIN:VEVENT
DTSTART;VALUE=DATE:20251126
DTEND;VALUE=DATE:20251127
DTSTAMP:20260421T025658
CREATED:20251029T142707Z
LAST-MODIFIED:20251029T142707Z
UID:1556-1764115200-1764201599@www.refreshingplace.org
SUMMARY:Wednesday Night Bible Study (Facilitators: Chris & Cayla Price)
DESCRIPTION:
URL:https://www.refreshingplace.org/event/wednesday-night-bible-study-facilitators-chris-cayla-price/
END:VEVENT
BEGIN:VEVENT
DTSTART;TZID=UTC:20251123T100000
DTEND;TZID=UTC:20251123T100000
DTSTAMP:20260421T025658
CREATED:20251112T180508Z
LAST-MODIFIED:20251112T180508Z
UID:2019-1763892000-1763892000@www.refreshingplace.org
SUMMARY:Youth Sunday
DESCRIPTION:
URL:https://www.refreshingplace.org/event/youth-sunday-2/
END:VEVENT
BEGIN:VEVENT
DTSTART;TZID=UTC:20251123T100000
DTEND;TZID=UTC:20251123T100000
DTSTAMP:20260421T025658
CREATED:20251029T142638Z
LAST-MODIFIED:20251029T142638Z
UID:1554-1763892000-1763892000@www.refreshingplace.org
SUMMARY:Sunday Worship Service
DESCRIPTION:
URL:https://www.refreshingplace.org/event/sunday-worship-service-4/
END:VEVENT
BEGIN:VEVENT
DTSTART;VALUE=DATE:20251119
DTEND;VALUE=DATE:20251120
DTSTAMP:20260421T025658
CREATED:20251029T142247Z
LAST-MODIFIED:20251029T142247Z
UID:1552-1763510400-1763596799@www.refreshingplace.org
SUMMARY:Wednesday Night Bible Study (Facilitator: Elder Charlie Walker)
DESCRIPTION:
URL:https://www.refreshingplace.org/event/wednesday-night-bible-study-facilitator-elder-charlie-walker-2/
END:VEVENT
BEGIN:VEVENT
DTSTART;TZID=UTC:20251116T100000
DTEND;TZID=UTC:20251116T100000
DTSTAMP:20260421T025658
CREATED:20251112T175019Z
LAST-MODIFIED:20251112T175019Z
UID:2017-1763287200-1763287200@www.refreshingplace.org
SUMMARY:Youth Sunday
DESCRIPTION:
URL:https://www.refreshingplace.org/event/youth-sunday/
END:VEVENT
BEGIN:VEVENT
DTSTART;TZID=UTC:20251116T100000
DTEND;TZID=UTC:20251116T100000
DTSTAMP:20260421T025658
CREATED:20251029T142130Z
LAST-MODIFIED:20251029T142130Z
UID:1550-1763287200-1763287200@www.refreshingplace.org
SUMMARY:Sunday Worship Service
DESCRIPTION:
URL:https://www.refreshingplace.org/event/sunday-worship-service-3/
END:VEVENT
BEGIN:VEVENT
DTSTART;VALUE=DATE:20251115
DTEND;VALUE=DATE:20251116
DTSTAMP:20260421T025658
CREATED:20251029T141429Z
LAST-MODIFIED:20251029T141429Z
UID:1548-1763164800-1763251199@www.refreshingplace.org
SUMMARY:Widows Ministry Meeting
DESCRIPTION:
URL:https://www.refreshingplace.org/event/widows-ministry-meeting/
END:VEVENT
BEGIN:VEVENT
DTSTART;VALUE=DATE:20251112
DTEND;VALUE=DATE:20251113
DTSTAMP:20260421T025658
CREATED:20251029T141332Z
LAST-MODIFIED:20251029T141332Z
UID:1546-1762905600-1762991999@www.refreshingplace.org
SUMMARY:Wednesday Night Bible Study (Facilitator: Elder Charlie Walker)
DESCRIPTION:
URL:https://www.refreshingplace.org/event/wednesday-night-bible-study-facilitator-elder-charlie-walker/
END:VEVENT
BEGIN:VEVENT
DTSTART;VALUE=DATE:20251112
DTEND;VALUE=DATE:20251113
DTSTAMP:20260421T025658
CREATED:20251029T141205Z
LAST-MODIFIED:20251029T141205Z
UID:1544-1762905600-1762991999@www.refreshingplace.org
SUMMARY:Golden Warriors Meeting
DESCRIPTION:
URL:https://www.refreshingplace.org/event/golden-warriors-meeting-2/
END:VEVENT
BEGIN:VEVENT
DTSTART;TZID=UTC:20251109T100000
DTEND;TZID=UTC:20251109T100000
DTSTAMP:20260421T025658
CREATED:20251029T141119Z
LAST-MODIFIED:20251029T141119Z
UID:1542-1762682400-1762682400@www.refreshingplace.org
SUMMARY:Sunday Worship Service
DESCRIPTION:
URL:https://www.refreshingplace.org/event/sunday-worship-service-2/
END:VEVENT
BEGIN:VEVENT
DTSTART;TZID=UTC:20251108T110000
DTEND;TZID=UTC:20251108T150000
DTSTAMP:20260421T025658
CREATED:20251029T140853Z
LAST-MODIFIED:20251029T140853Z
UID:1540-1762599600-1762614000@www.refreshingplace.org
SUMMARY:TRPM Health Fair
DESCRIPTION:
URL:https://www.refreshingplace.org/event/trpm-health-fair/
END:VEVENT
BEGIN:VEVENT
DTSTART;VALUE=DATE:20251105
DTEND;VALUE=DATE:20251106
DTSTAMP:20260421T025658
CREATED:20251029T140630Z
LAST-MODIFIED:20251029T140630Z
UID:1538-1762300800-1762387199@www.refreshingplace.org
SUMMARY:Wednesday Night Bible Study (Facilitator: Dr. Deborah Head)
DESCRIPTION:
URL:https://www.refreshingplace.org/event/wednesday-night-bible-study-facilitator-dr-deborah-head/
END:VEVENT
BEGIN:VEVENT
DTSTART;TZID=UTC:20251102T100000
DTEND;TZID=UTC:20251102T100000
DTSTAMP:20260421T025658
CREATED:20251029T140458Z
LAST-MODIFIED:20251029T140458Z
UID:1536-1762077600-1762077600@www.refreshingplace.org
SUMMARY:Sunday Worship Service
DESCRIPTION:
URL:https://www.refreshingplace.org/event/sunday-worship-service/
END:VEVENT
BEGIN:VEVENT
DTSTART;TZID=UTC:20251101T080000
DTEND;TZID=UTC:20251101T080000
DTSTAMP:20260421T025658
CREATED:20251029T135853Z
LAST-MODIFIED:20251029T140322Z
UID:1534-1761984000-1761984000@www.refreshingplace.org
SUMMARY:Men’s Ministry Meeting
DESCRIPTION:
URL:https://www.refreshingplace.org/event/mens-ministry-meeting/
END:VEVENT
BEGIN:VEVENT
DTSTART;TZID=UTC:20250719T100000
DTEND;TZID=UTC:20250719T140000
DTSTAMP:20260421T025658
CREATED:20250709T142834Z
LAST-MODIFIED:20250709T142834Z
UID:1506-1752919200-1752933600@www.refreshingplace.org
SUMMARY:Community Day
DESCRIPTION:
URL:https://www.refreshingplace.org/event/community-day-2/
END:VEVENT
BEGIN:VEVENT
DTSTART;VALUE=DATE:20250716
DTEND;VALUE=DATE:20250719
DTSTAMP:20260421T025658
CREATED:20250709T142711Z
LAST-MODIFIED:20250709T142711Z
UID:1504-1752624000-1752883199@www.refreshingplace.org
SUMMARY:Vacation Bible School
DESCRIPTION:
URL:https://www.refreshingplace.org/event/vacation-bible-school/
END:VEVENT
BEGIN:VEVENT
DTSTART;TZID=UTC:20240427T180000
DTEND;TZID=UTC:20240427T180000
DTSTAMP:20260421T025658
CREATED:20240301T204742Z
LAST-MODIFIED:20240301T204755Z
UID:1437-1714240800-1714240800@www.refreshingplace.org
SUMMARY:10 Year Anniversary Celebration
DESCRIPTION:
URL:https://www.refreshingplace.org/event/10-year-anniversary-celebration/
LOCATION:Venue\, Eagles Landing Country Club\, United States
END:VEVENT
BEGIN:VEVENT
DTSTART;TZID=UTC:20230722T180000
DTEND;TZID=UTC:20230722T233000
DTSTAMP:20260421T025658
CREATED:20230717T145133Z
LAST-MODIFIED:20230717T145133Z
UID:853-1690048800-1690068600@www.refreshingplace.org
SUMMARY:Community Day
DESCRIPTION:Fellowship\, food\, and fun. Bring your lawn chairs and come enjoy the day with TRPM members\, friends\, and the community.
URL:https://www.refreshingplace.org/event/community-day/
END:VEVENT
BEGIN:VEVENT
DTSTART;TZID=UTC:20230721T180000
DTEND;TZID=UTC:20230721T233000
DTSTAMP:20260421T025658
CREATED:20230717T144902Z
LAST-MODIFIED:20230717T145001Z
UID:851-1689962400-1689982200@www.refreshingplace.org
SUMMARY:Kingdom Keepers Day 3
DESCRIPTION:Youth: Kingdom Keepers class. \nAdults: The Evolution of Financial Planning \nPanel Discussion.
URL:https://www.refreshingplace.org/event/kingdom-keepers-day-3/
END:VEVENT
BEGIN:VEVENT
DTSTART;TZID=UTC:20230720T180000
DTEND;TZID=UTC:20230720T233000
DTSTAMP:20260421T025658
CREATED:20230717T144825Z
LAST-MODIFIED:20230717T144825Z
UID:849-1689876000-1689895800@www.refreshingplace.org
SUMMARY:Kingdom Keepers Day 2
DESCRIPTION:Youth: Kingdom Keepers Class \nAdults: Kingdom Estate Planning 101.
URL:https://www.refreshingplace.org/event/kingdom-keepers-day-2/
END:VEVENT
BEGIN:VEVENT
DTSTART;TZID=UTC:20230719T180000
DTEND;TZID=UTC:20230719T233000
DTSTAMP:20260421T025658
CREATED:20230717T144646Z
LAST-MODIFIED:20230717T144646Z
UID:847-1689789600-1689809400@www.refreshingplace.org
SUMMARY:Kingdom Keepers Day 1
DESCRIPTION:Youth: Kingdom Keepers class. \nAdults: In-Person Bible Study.
URL:https://www.refreshingplace.org/event/kingdom-keepers-day-1/
END:VEVENT
BEGIN:VEVENT
DTSTART;TZID=UTC:20230430T100000
DTEND;TZID=UTC:20230430T100000
DTSTAMP:20260421T025658
CREATED:20230310T191008Z
LAST-MODIFIED:20230310T191008Z
UID:750-1682848800-1682848800@www.refreshingplace.org
SUMMARY:Youth Church - Timothy Price Ministering
DESCRIPTION:
URL:https://www.refreshingplace.org/event/youth-church-timothy-price-ministering/
END:VEVENT
BEGIN:VEVENT
DTSTART;TZID=UTC:20230416T100000
DTEND;TZID=UTC:20230416T100000
DTSTAMP:20260421T025658
CREATED:20230310T190928Z
LAST-MODIFIED:20230310T194024Z
UID:748-1681639200-1681639200@www.refreshingplace.org
SUMMARY:Beverly Scott Ministering
DESCRIPTION:
URL:https://www.refreshingplace.org/event/beverly-scott-ministering/
END:VEVENT
BEGIN:VEVENT
DTSTART;TZID=UTC:20230412T110000
DTEND;TZID=UTC:20230412T110000
DTSTAMP:20260421T025658
CREATED:20230310T190826Z
LAST-MODIFIED:20230310T194142Z
UID:746-1681297200-1681297200@www.refreshingplace.org
SUMMARY:Golden Warriors Outing
DESCRIPTION:
URL:https://www.refreshingplace.org/event/golden-warriors-outing/
END:VEVENT
END:VCALENDAR