BEGIN:VCALENDAR
VERSION:2.0
PRODID:-//Refreshing Place Ministries - ECPv6.15.20//NONSGML v1.0//EN
CALSCALE:GREGORIAN
METHOD:PUBLISH
X-ORIGINAL-URL:https://www.refreshingplace.org
X-WR-CALDESC:Events for Refreshing Place Ministries
REFRESH-INTERVAL;VALUE=DURATION:PT1H
X-Robots-Tag:noindex
X-PUBLISHED-TTL:PT1H
BEGIN:VTIMEZONE
TZID:UTC
BEGIN:STANDARD
TZOFFSETFROM:+0000
TZOFFSETTO:+0000
TZNAME:UTC
DTSTART:20210101T000000
END:STANDARD
END:VTIMEZONE
BEGIN:VEVENT
DTSTART;TZID=UTC:20230315T110000
DTEND;TZID=UTC:20230315T110000
DTSTAMP:20260421T184532
CREATED:20230310T184443Z
LAST-MODIFIED:20230310T184443Z
UID:734-1678878000-1678878000@www.refreshingplace.org
SUMMARY:Golden Warriors Meeting
DESCRIPTION:
URL:https://www.refreshingplace.org/event/golden-warriors-meeting/
END:VEVENT
BEGIN:VEVENT
DTSTART;TZID=UTC:20230309T100000
DTEND;TZID=UTC:20230309T100000
DTSTAMP:20260421T184532
CREATED:20230310T184304Z
LAST-MODIFIED:20230310T184304Z
UID:732-1678356000-1678356000@www.refreshingplace.org
SUMMARY:Baby Dedication
DESCRIPTION:
URL:https://www.refreshingplace.org/event/baby-dedication/
END:VEVENT
BEGIN:VEVENT
DTSTART;TZID=UTC:20230226T100000
DTEND;TZID=UTC:20230226T100000
DTSTAMP:20260421T184532
CREATED:20230206T211430Z
LAST-MODIFIED:20230206T211430Z
UID:692-1677405600-1677405600@www.refreshingplace.org
SUMMARY:Speaker- Minister Barabara Harris
DESCRIPTION:
URL:https://www.refreshingplace.org/event/speaker-minister-barabara-harris/
END:VEVENT
BEGIN:VEVENT
DTSTART;TZID=UTC:20230226T000000
DTEND;TZID=UTC:20230226T000000
DTSTAMP:20260421T184532
CREATED:20230206T211612Z
LAST-MODIFIED:20230206T211612Z
UID:694-1677369600-1677369600@www.refreshingplace.org
SUMMARY:Black History presentation\, presented by TRPM films \, immediately following service\, feel free to dress in Ethnic Attire.
DESCRIPTION:
URL:https://www.refreshingplace.org/event/black-history-presentation-presented-by-trpm-films-immediately-following-service-feel-free-to-dress-in-ethnic-attire/
END:VEVENT
BEGIN:VEVENT
DTSTART;TZID=UTC:20230218T100000
DTEND;TZID=UTC:20230218T100000
DTSTAMP:20260421T184532
CREATED:20230206T211329Z
LAST-MODIFIED:20230206T211329Z
UID:690-1676714400-1676714400@www.refreshingplace.org
SUMMARY:Youth Service every 3rd Sunday
DESCRIPTION:
URL:https://www.refreshingplace.org/event/youth-service-every-3rd-sunday/
END:VEVENT
BEGIN:VEVENT
DTSTART;TZID=UTC:20230213T190000
DTEND;TZID=UTC:20230213T190000
DTSTAMP:20260421T184532
CREATED:20230206T211728Z
LAST-MODIFIED:20230206T211728Z
UID:697-1676314800-1676314800@www.refreshingplace.org
SUMMARY:Teen Girls Ministry
DESCRIPTION:Monday- Teen Girls Ministry\, Monday’s at 7pm – Ages 12-18\, Zoom ID: 627-438-2437 
URL:https://www.refreshingplace.org/event/teen-girls-ministry/
END:VEVENT
BEGIN:VEVENT
DTSTART;TZID=UTC:20230212T100000
DTEND;TZID=UTC:20230212T100000
DTSTAMP:20260421T184532
CREATED:20230206T210916Z
LAST-MODIFIED:20230206T211009Z
UID:685-1676196000-1676196000@www.refreshingplace.org
SUMMARY:Church service every Sunday at 10am Live in person\, Facebook\, Youtube\, and Twitter.
DESCRIPTION:
URL:https://www.refreshingplace.org/event/church-service-every-sunday-at-10am-live-in-person-facebook-youtube-and-twitter/
END:VEVENT
BEGIN:VEVENT
DTSTART;TZID=UTC:20230212T083000
DTEND;TZID=UTC:20230212T083000
DTSTAMP:20260421T184532
CREATED:20230206T211113Z
LAST-MODIFIED:20230206T211113Z
UID:687-1676190600-1676190600@www.refreshingplace.org
SUMMARY:Sunday School at 8:30am on Zoom (627-438-2437) and in person.
DESCRIPTION:
URL:https://www.refreshingplace.org/event/sunday-school-at-830am-on-zoom-627-438-2437-and-in-person/
LOCATION:ZOOM
END:VEVENT
BEGIN:VEVENT
DTSTART;TZID=UTC:20230208T190000
DTEND;TZID=UTC:20230208T190000
DTSTAMP:20260421T184532
CREATED:20230206T212028Z
LAST-MODIFIED:20230206T212028Z
UID:701-1675882800-1675882800@www.refreshingplace.org
SUMMARY:Wednesday- Wednesday night bible study at 7pm on Youtube and Facebook. we are studying " The Power Of Right Believing" by Joseph Prince
DESCRIPTION:
URL:https://www.refreshingplace.org/event/wednesday-wednesday-night-bible-study-at-7pm-on-youtube-and-facebook-we-are-studying-the-power-of-right-believing-by-joseph-prince/
END:VEVENT
BEGIN:VEVENT
DTSTART;TZID=UTC:20230207T060000
DTEND;TZID=UTC:20230207T060000
DTSTAMP:20260421T184532
CREATED:20230206T211935Z
LAST-MODIFIED:20230206T211935Z
UID:699-1675749600-1675749600@www.refreshingplace.org
SUMMARY:Tuesday- Graze Zone Prayer line at 6am\, Tel # 267-807-9495\, Pass: 290-076-761
DESCRIPTION:
URL:https://www.refreshingplace.org/event/tuesday-graze-zone-prayer-line-at-6am-tel-267-807-9495-pass-290-076-761/
END:VEVENT
BEGIN:VEVENT
DTSTART;TZID=UTC:20230204T100000
DTEND;TZID=UTC:20230204T100000
DTSTAMP:20260421T184532
CREATED:20230206T212113Z
LAST-MODIFIED:20230207T182315Z
UID:703-1675504800-1675504800@www.refreshingplace.org
SUMMARY:Saturday- Men's Ministry and Caregivers meeting every first Saturday 10am at TRPM
DESCRIPTION:
URL:https://www.refreshingplace.org/event/saturday-mens-ministry-and-caregivers-meeting-every-first-saturday-10am-at-trpm/
END:VEVENT
BEGIN:VEVENT
DTSTART;VALUE=DATE:20221210
DTEND;VALUE=DATE:20221211
DTSTAMP:20260421T184532
CREATED:20220602T152918Z
LAST-MODIFIED:20220602T152918Z
UID:628-1670630400-1670716799@www.refreshingplace.org
SUMMARY:Marriage Ministry Christmas Dinner
DESCRIPTION:
URL:https://www.refreshingplace.org/event/marriage-ministry-christmas-dinner/
END:VEVENT
BEGIN:VEVENT
DTSTART;VALUE=DATE:20220923
DTEND;VALUE=DATE:20220925
DTSTAMP:20260421T184532
CREATED:20220602T152831Z
LAST-MODIFIED:20220602T152831Z
UID:626-1663891200-1664063999@www.refreshingplace.org
SUMMARY:Womens Revival
DESCRIPTION:
URL:https://www.refreshingplace.org/event/womens-revival/
END:VEVENT
BEGIN:VEVENT
DTSTART;VALUE=DATE:20220715
DTEND;VALUE=DATE:20220717
DTSTAMP:20260421T184532
CREATED:20220602T152719Z
LAST-MODIFIED:20220602T152719Z
UID:624-1657843200-1658015999@www.refreshingplace.org
SUMMARY:VBS Community Day
DESCRIPTION:
URL:https://www.refreshingplace.org/event/vbs-community-day/
END:VEVENT
END:VCALENDAR